BEGIN:VCALENDAR
PRODID:-//AT Content Types//AT Event//EN
VERSION:1.0
BEGIN:VEVENT
DTSTART:20160226T090000Z
DTEND:20160229T170000Z
DCREATED:20160219T143332Z
UID:ATEvent-3292aa3bd4e84e7899d99bad451907c3
SEQUENCE:0
LAST-MODIFIED:20160219T143341Z
SUMMARY:33ème Expo Habitat à Waldighoffen du 26 au 29 février 2016
DESCRIPTION:La 33ème édition de la désormais célèbre Expo Habitat
  de Waldighoffen se tiendra du vendredi 26 au lundi 29 février 2016.
LOCATION:Salle polyvalente de Waldighoffen
PRIORITY:3
TRANSP:0
END:VEVENT
END:VCALENDAR
