BEGIN:VCALENDAR
PRODID:-//AT Content Types//AT Event//EN
VERSION:1.0
BEGIN:VEVENT
DTSTART:20120425T060000Z
DTEND:20120429T190000Z
DCREATED:20120402T100831Z
UID:ATEvent-8945d720b1654cd3bba8da157809e913
SEQUENCE:0
LAST-MODIFIED:20120402T115457Z
SUMMARY:Tiki (Elise Beltz) expose à l'Oltinguette pour sa réouverture du 28 mars au 29 avril 2012 (semaine 25-29 avril)
DESCRIPTION:Elise Beltz\, artiste de Waldighoffen\, connue sous le nom
  de Tiki l'ethnographiste\, expose à l'Oltinguette\, chez Tony Hartma
 nn\, pour le réouverture de cet établissement. 4e semaine d'expositi
 on.
LOCATION:L'Oltinguette-Oltingue
PRIORITY:3
TRANSP:0
END:VEVENT
END:VCALENDAR
