BEGIN:VCALENDAR
PRODID:-//AT Content Types//AT Event//EN
VERSION:2.0
METHOD:PUBLISH
BEGIN:VEVENT
DTSTAMP:20260422T100305Z
CREATED:20140331T085717Z
UID:ATEvent-c4edae63df7b41518765185be0daddbd
LAST-MODIFIED:20141201T132715Z
SUMMARY:ATELIER : Constellations familiales et sytémiques - François HANFF - le 12 octobre et le 16 novembre 2014\, le 17 janvier 2015
DTSTART:20141012T070000Z
DTEND:20150117T160000Z
DESCRIPTION:François HANFF vous propose\, avec la médiathèque de Wa
 ldighoffen\, un atelier autour des constellations familiales et systé
 miques\, le 12 octobre et le 16 novembre 2014\, le 17 janvier 2015.
LOCATION:Médiathèque Nathan Katz
CATEGORIES:Constellations familiales et systémiques, Atelier, François HANFF, 12 octobre 2014
CONTACT:François HANFF\, 06 43 33 42 09
CLASS:PUBLIC
END:VEVENT
END:VCALENDAR
