BEGIN:VCALENDAR
PRODID:-//AT Content Types//AT Event//EN
VERSION:1.0
BEGIN:VEVENT
DTSTART:20150327T150000Z
DTEND:20150327T163000Z
DCREATED:20150311T132217Z
UID:ATEvent-ee65abdf6a0f4ab2a1be9fa0d1877ddf
SEQUENCE:0
LAST-MODIFIED:20160408T131313Z
SUMMARY:29/04/2016 - ATELIER CRÉATIF : Porte-photos
DESCRIPTION:La médiathèque propose un atelier créatif pour enfants 
 le vendredi 29 avril 2016.
LOCATION:Médiathèque Nathan Katz
PRIORITY:3
TRANSP:0
END:VEVENT
END:VCALENDAR
