BEGIN:VCALENDAR
PRODID:-//AT Content Types//AT Event//EN
VERSION:2.0
METHOD:PUBLISH
BEGIN:VEVENT
DTSTAMP:20260421T080426Z
CREATED:20130829T142432Z
UID:ATEvent-5adff36fa2d24ba5aa8ab87398b4dad4
LAST-MODIFIED:20140515T084600Z
SUMMARY:Ateliers de CREATION DE BIJOUX du jeudi avec Lydia LONGO : reprise le jeudi 19 septembre 2013
DTSTART:20130919T183000Z
DTEND:20130919T200000Z
DESCRIPTION:Lydia LONGO reprend les ateliers de création de bijoux à
  la Médiathèque Nathan Katz de Waldighoffen\, à partir du jeudi 19 
 septembre 2013\, de 20h30 à 22h
LOCATION:Médiathèque Nathan Katz
CATEGORIES:Lydia Longo, Médiathèque Waldighoffen, Création de bijoux
CONTACT:Julie Schlegel\, Médiathèque : 03 89 68 94 40  Julie Schlegel : 06 89 75 96 72
CLASS:PUBLIC
END:VEVENT
END:VCALENDAR
