BEGIN:VCALENDAR
PRODID:-//AT Content Types//AT Event//EN
VERSION:2.0
METHOD:PUBLISH
BEGIN:VEVENT
DTSTAMP:20260420T181950Z
CREATED:20130924T134859Z
UID:ATEvent-354373582478467fae7c13d2d0e9a7f6
LAST-MODIFIED:20140213T121147Z
SUMMARY:Atelier POTERIE avec Catherine UHRWEILLER\, à la médiathèque Nathan Katz de Waldighoffen
DTSTART:20131008T173000Z
DTEND:20131008T190000Z
DESCRIPTION:Catherine UHRWEILLER vous propose des ateliers de poterie 
 à la Médiathèque Nathan Katz de Waldighoffen.
LOCATION:Médiathèque Nathan Katz
CATEGORIES:Poterie, Catherine UHRWEILLER, Médiathèque de Waldighoffen
CONTACT:Julie Schlegel\, Médiathèque : 03 89 68 94 40 Julie Schlegel : 06 89 75 96 72
CLASS:PUBLIC
END:VEVENT
END:VCALENDAR
