BEGIN:VCALENDAR
PRODID:-//AT Content Types//AT Event//EN
VERSION:1.0
BEGIN:VEVENT
DTSTART:20141002T180000Z
DTEND:20141002T200000Z
DCREATED:20140423T123149Z
UID:ATEvent-16fc64b4f0214148aaeb7b71dd08ba37
SEQUENCE:0
LAST-MODIFIED:20140515T081521Z
SUMMARY:CONFERENCE : Constellations familiales et systÃ©miques - FranÃ§ois HANFF - le 2 octobre 2014
DESCRIPTION:FranÃ§ois HANFF vous propose\, avec la MÃ©diathÃ¨que Natha
 n Katz\, une confÃ©rence autour des constellations familiales et systÃ
 ©miques le 2 octobre 2014.
LOCATION:Salle Culturelle - rue des Ecoles (entrÃ©e : cour de l'Ã©cole)
PRIORITY:3
TRANSP:0
END:VEVENT
END:VCALENDAR
