BEGIN:VCALENDAR
PRODID:-//AT Content Types//AT Event//EN
VERSION:2.0
METHOD:PUBLISH
BEGIN:VEVENT
DTSTAMP:20260420T181919Z
CREATED:20150112T124106Z
UID:ATEvent-2cbe620a4c054c279deb5e9501d73873
LAST-MODIFIED:20150302T125704Z
SUMMARY:CONFERENCE : Les plantes au service de notre santé - Alain SCHILB - le 28 avril 2015
DTSTART:20150428T180000Z
DTEND:20150428T200000Z
DESCRIPTION:Conférence : faire soi-même ses préparations pour se co
 nstituer une petite trousse de secours face aux soucis du quotidien.
LOCATION:Médiathèque Nathan Katz
CATEGORIES:Phyto-aromathérapie, Médiathèque de Waldighoffen, phyto-aromathérapie, Alain SCHILB
CONTACT:Julie SCHLEGEL\, 03 89 68 94 40
CLASS:PUBLIC
END:VEVENT
END:VCALENDAR
