BEGIN:VCALENDAR
PRODID:-//AT Content Types//AT Event//EN
VERSION:2.0
METHOD:PUBLISH
BEGIN:VEVENT
DTSTAMP:20260419T192614Z
CREATED:20100305T171342Z
UID:ATEvent-79882a2cb59054941b3055140f794a66
LAST-MODIFIED:20100324T101103Z
SUMMARY:Conte pour Adultes le 23 mars 2010 à la Médiathèque de Waldighoffen
DTSTART:20100323T183000Z
DTEND:20100323T200000Z
DESCRIPTION:La Compagnie de l'Ange d'Or présente lors de sa tournée 
 dans le Sundgau « Village cherche idiot »\, mardi 23 mars 2010 à la
  Médiathèque de Waldighoffen
LOCATION:à la Médiathèque Nathan Katz de Waldighoffen
CATEGORIES:Médiathèque
CONTACT:Christiane Vallin\, 03 89 68 94 40
CLASS:PUBLIC
END:VEVENT
END:VCALENDAR
