BEGIN:VCALENDAR
PRODID:-//AT Content Types//AT Event//EN
VERSION:1.0
BEGIN:VEVENT
DTSTART:20130930T120000Z
DTEND:20131002T140000Z
DCREATED:20130919T122537Z
UID:ATEvent-85da12083c8f44fe9c98fe6ed82bfac2
SEQUENCE:0
LAST-MODIFIED:20131031T143025Z
SUMMARY:Cours de QI GONG et TAIJI\, avec Saliha LINDER\, à partir du 30 septembre 2013
DESCRIPTION:Saliha LINDER propose avec la Médiathèque Nathan Katz de
  Waldighoffen des cours de Qi Gong et de Taiji pour adultes.
LOCATION:Espace le Forum\, salle associative
PRIORITY:3
TRANSP:0
END:VEVENT
END:VCALENDAR
