BEGIN:VCALENDAR
PRODID:-//AT Content Types//AT Event//EN
VERSION:2.0
METHOD:PUBLISH
BEGIN:VEVENT
DTSTAMP:20260420T182024Z
CREATED:20111026T203125Z
UID:ATEvent-9042cc4c-7fe0-4c95-9a8d-0412894e77ee
LAST-MODIFIED:20111110T225239Z
SUMMARY:Dans les valises de Pistache..."Mily la lutine"\, conte de Gaëlle Fratelli à la Médiathèque le 9 décembre 2011
DTSTART:20111209T090000Z
DTEND:20111209T190000Z
DESCRIPTION:Gaëlle Fratelli propose à vos enfants de 3 à 11 ans un 
 conte intitulé "Mily la lutine" joué par son personnage Pistache. De
 ux séances scolaires et une séance à 19 h pour les familles.
LOCATION:Médiathèque Nathan Katz\, 2\, rue Nathan Katz à WALDIGHOFFEN
CATEGORIES:Médiathèque de Waldighoffen, Mily la lutine, L'Inattendue, Gaëlle Fratelli, Pistache
CONTACT:Christiane VALLIN\, 03 89 68 94 40 (Médiathèque) ou 06 89 75 96 72
CLASS:PUBLIC
END:VEVENT
END:VCALENDAR
