BEGIN:VCALENDAR
PRODID:-//AT Content Types//AT Event//EN
VERSION:2.0
METHOD:PUBLISH
BEGIN:VEVENT
DTSTAMP:20260420T183027Z
CREATED:20130828T114108Z
UID:ATEvent-e4162ab440c549f2b10688484a01269a
LAST-MODIFIED:20130929T090214Z
SUMMARY:EXPOSITION des oeuvres d'Amy BOISSIER à la médiathèque Nathan Katz de Waldighoffen\, du 1er au 30 octobre 2013
DTSTART:20131001T113000Z
DTEND:20131030T180000Z
DESCRIPTION:La Médiathèque Nathan Katz de Waldighoffen est heureuse 
 d'accueillir les œuvres de l'artiste Amy Boissier.
LOCATION:Médiathèque Nathan Katz
CATEGORIES:Médiatheque Waldighoffen, Exposition, Amy Boissier
CONTACT:Julie Schlegel\, Médiathèque : 03 89 68 94 40  Julie Schlegel : 06 89 75 96 72
CLASS:PUBLIC
END:VEVENT
END:VCALENDAR
