BEGIN:VCALENDAR
PRODID:-//AT Content Types//AT Event//EN
VERSION:2.0
METHOD:PUBLISH
BEGIN:VEVENT
DTSTAMP:20260420T181803Z
CREATED:20160106T105335Z
UID:ATEvent-a61f2cab3d0a4fe4904bc97f7394104a
LAST-MODIFIED:20160106T135852Z
SUMMARY:EXPOSITION : Les châteaux forts - du 6 janvier au 3 février 2016
DTSTART:20160106T120000Z
DTEND:20160203T170000Z
DESCRIPTION:La Médiathèque Nathan Katz vous propose l'exposition "Le
 s châteaux forts" à partir du 6 janvier 2016.
LOCATION:Médiathèque Nathan Katz
CATEGORIES:Médiathèque de Waldighoffen, Châteaux forts
CONTACT:Julie SCHLEGEL\, 03 89 68 94 40
CLASS:PUBLIC
END:VEVENT
END:VCALENDAR
