BEGIN:VCALENDAR
PRODID:-//AT Content Types//AT Event//EN
VERSION:2.0
METHOD:PUBLISH
BEGIN:VEVENT
DTSTAMP:20260420T182229Z
CREATED:20150707T145454Z
UID:ATEvent-d6dbc10ef7a9476381a7b141d9d13616
LAST-MODIFIED:20150915T155048Z
SUMMARY:Le festival international jeune public MOMIX 2016 en balade à Waldighoffen - Elisa et Jean-René - Compagnie des Mutants - le vendredi 5 février 2016
DTSTART:20160205T080000Z
DTEND:20160205T140000Z
DESCRIPTION:La Compagnie des Mutants présentera son spectacle Elisa e
 t Jean-René à Waldighoffen\, dans le cadre du festival Momix en bala
 de.
LOCATION:Salle de Motricité - Ecole Maternelle
CONTACT:Julie SCHLEGEL\, 03 89 68 94 40
CLASS:PUBLIC
END:VEVENT
END:VCALENDAR
