BEGIN:VCALENDAR
PRODID:-//AT Content Types//AT Event//EN
VERSION:1.0
BEGIN:VEVENT
DTSTART:20131017T180000Z
DTEND:20131017T200000Z
DCREATED:20130909T131719Z
UID:ATEvent-9afad0df395b4023b304fc039d5722eb
SEQUENCE:0
LAST-MODIFIED:20131015T065817Z
SUMMARY:LECTURE MUSICALE et RENCONTRE pour adultes avec Vesnica MARTIN-HAJPEK\, jeudi 17 octobre 2013 à 20h00
DESCRIPTION:Vesnica MARTIN-HAJPEK sera présente à la Salle Associati
 ve le jeudi 17 octobre à 20h pour une soirée rencontre et lecture po
 ur adulte.
LOCATION:Salle Associative\, rue des Ecoles - Waldighoffen
PRIORITY:3
TRANSP:0
END:VEVENT
END:VCALENDAR
