BEGIN:VCALENDAR
PRODID:-//AT Content Types//AT Event//EN
VERSION:2.0
METHOD:PUBLISH
BEGIN:VEVENT
DTSTAMP:20260420T182954Z
CREATED:20130906T141116Z
UID:ATEvent-4913550a44864c62b6eb62a6631159c9
LAST-MODIFIED:20131007T220224Z
SUMMARY:EXPOSITION EMERGENCES\, par Vesnica MARTIN-HAJPEK\, du 8 au 18 octobre 2013
DTSTART:20131007T110000Z
DTEND:20131021T060000Z
DESCRIPTION:La Médiathèque Nathan Katz de Waldighoffen est heureuse 
 d'accueillir l'exposition de Vesnica MARTIN-HAJPEK\, du 8 au 18 octobr
 e 2013.
LOCATION:Médiathèque Nathan Katz
CATEGORIES:Médiathèque Waldighoffen, Médiathèque de Waldighoffen, Exposition Emergences, Vesnica MARTIN-HAJPEK
CONTACT:Julie Schlegel\, Médiathèque : 03 89 68 94 40 Julie Schlegel : 06 89 75 96 72
CLASS:PUBLIC
END:VEVENT
END:VCALENDAR
