BEGIN:VCALENDAR
PRODID:-//AT Content Types//AT Event//EN
VERSION:1.0
BEGIN:VEVENT
DTSTART:20160131T140000Z
DTEND:20160201T140000Z
DCREATED:20150707T150520Z
UID:ATEvent-d6b9572b7b1a41f086a08c3bb2541269
SEQUENCE:0
LAST-MODIFIED:20150828T125005Z
SUMMARY:Les festival international jeune public MOMIX 2016 en balade à Waldighoffen - Les contes de sables - Changer l'Air Compagnie - le 31 janvier et le 1er février 2016
DESCRIPTION:La Compagnie Changer l'Air présentera son spectacle Les C
 ontes de Sables à Waldighoffen\, dans le cadre du festival Momix en b
 alade.
LOCATION:Salle de Motricité - Ecole Maternelle
PRIORITY:3
TRANSP:0
END:VEVENT
END:VCALENDAR
