BEGIN:VCALENDAR
PRODID:-//AT Content Types//AT Event//EN
VERSION:2.0
METHOD:PUBLISH
BEGIN:VEVENT
DTSTAMP:20260420T182117Z
CREATED:20130903T154219Z
UID:ATEvent-70723777f1c941568860fe98923a0152
LAST-MODIFIED:20130926T104751Z
SUMMARY:LES PLANTES MEDICINALES MAJEURES - 1er jour de formation avec Elisabeth BUSSER le mardi 22 octobre
DTSTART:20131022T070000Z
DTEND:20131022T160000Z
DESCRIPTION:Elisabeth BUSSER\, Dr en pharmacie\, botaniste\, vous prop
 ose deux nouvelles journées de formation à la Médiathèque Nathan K
 atz de Waldighoffen.
LOCATION:Médiathèque Nathan Katz
CATEGORIES:Elisabeth Busser, Médiathèque Waldighoffen, Plantes médicinales majeures
CONTACT:Elisabeth Busser / Julie Schlegel\, Elisabeth Busser : 06 86 85 09 47  Julie Schlegel : 06 89 75 96 72
CLASS:PUBLIC
END:VEVENT
END:VCALENDAR
