BEGIN:VCALENDAR
PRODID:-//AT Content Types//AT Event//EN
VERSION:2.0
METHOD:PUBLISH
BEGIN:VEVENT
DTSTAMP:20260420T181902Z
CREATED:20150707T144053Z
UID:ATEvent-4792a4a714de4bce8350649e8181522f
LAST-MODIFIED:20151119T120732Z
SUMMARY:Marché de Noël : les 21 et 22 novembre 2015
DTSTART:20151121T130000Z
DTEND:20151122T170000Z
DESCRIPTION:Le marché de Noël de Waldighoffen au lieu les 21 et 22 n
 ovembre 2015.
CONTACT:Julie SCHLEGEL\, 03 89 68 94 40
CLASS:PUBLIC
END:VEVENT
END:VCALENDAR
