BEGIN:VCALENDAR
PRODID:-//AT Content Types//AT Event//EN
VERSION:2.0
METHOD:PUBLISH
BEGIN:VEVENT
DTSTAMP:20260425T105756Z
CREATED:20111004T173948Z
UID:ATEvent-ee1944836c08e8eb64745a585fe17b4e
LAST-MODIFIED:20111004T201233Z
SUMMARY:Médiathèque 9 nov - 1er jour de formation avec Elisabeth BUSSER : se soigner avec les PLANTES MEDICINALES MAJEURES
DTSTART:20111109T080000Z
DTEND:20111109T160000Z
DESCRIPTION:Première journée de stage de la formation proposée à l
 a Médiathèque Nathan Katz par Elisabeth BUSSER le mercredi 9 novembr
 e 2011
LOCATION:Médiathèque Nathan Katz\, 2\, rue Nathan Katz à WALDIGHOFFEN
CATEGORIES:Elisabeth Busser, Waldighoffen, Médiathèque Nathan Katz, Plantes médicinales majeures
CONTACT:03 89 68 94 40 (Médiathèque)
CLASS:PUBLIC
END:VEVENT
END:VCALENDAR
