BEGIN:VCALENDAR
PRODID:-//AT Content Types//AT Event//EN
VERSION:2.0
METHOD:PUBLISH
BEGIN:VEVENT
DTSTAMP:20260423T113605Z
CREATED:20111004T173948Z
UID:ATEvent-8928cb970b5336d61ff8d5ff9682edfe
LAST-MODIFIED:20111004T201358Z
SUMMARY:Médiathèque 16 nov - 2e jour de formation avec Elisabeth BUSSER : se soigner avec les PLANTES MEDICINALES MAJEURES
DTSTART:20111116T080000Z
DTEND:20111116T160000Z
DESCRIPTION:Deuxième journée de stage de la formation proposée à l
 a Médiathèque Nathan Katz par Elisabeth BUSSER le mercredi 16 novemb
 re 2011
LOCATION:Médiathèque Nathan Katz\, 2\, rue Nathan Katz à WALDIGHOFFEN
CATEGORIES:Elisabeth Busser, Waldighoffen, Plantes médicinales majeures, Formation, Médiathèque Nathan Katz
CONTACT:03 89 68 94 40 (Médiathèque)
CLASS:PUBLIC
END:VEVENT
END:VCALENDAR
