BEGIN:VCALENDAR
PRODID:-//AT Content Types//AT Event//EN
VERSION:2.0
METHOD:PUBLISH
BEGIN:VEVENT
DTSTAMP:20260420T182744Z
CREATED:20140121T150726Z
UID:ATEvent-b63e396217164e89a872b8b2e4e86c68
LAST-MODIFIED:20140127T151753Z
SUMMARY:SPECTACLE D'IMPROVISATION : Les Nains...provisateurs d'Illzach VS le Centre Léo Lagrange d'Epinal
DTSTART:20140308T190000Z
DTEND:20140308T210000Z
DESCRIPTION:Les Nains...provisateurs d'Illzach et le Centre Léo Lagra
 nge d'Epinal s'affronteront le 8 mars 2014.
LOCATION:Salle Culturelle - Rue des Ecoles (entrée : cour de l'Ecole)
CATEGORIES:Spectacle d'improvisation, Le Centre Léo Lagrange d'Epinal, Médiathèque de Waldighoffen, Les nains...provisateurs d'Illzach
CONTACT:Julie SCHLEGEL\, 06 89 75 96 72
CLASS:PUBLIC
END:VEVENT
END:VCALENDAR
