BEGIN:VCALENDAR
PRODID:-//AT Content Types//AT Event//EN
VERSION:2.0
METHOD:PUBLISH
BEGIN:VEVENT
DTSTAMP:20260420T182228Z
CREATED:20130626T195544Z
UID:ATEvent-9728e9c5d7cd4983991a0d5e81b93f73
LAST-MODIFIED:20130626T195942Z
SUMMARY:"Viens faire ton CIRQUE" : une semaine de stage avec le Clown Toupie fin juillet 2013
DTSTART:20130722T070000Z
DTEND:20130726T170000Z
DESCRIPTION:La Médiathèque Nathan Katz organise un stage d'une semai
 ne pour les enfants et adolescents de 5 à 15 ans avec Le Clown Toupie
  du 22 au 26 juillet 2013. Inscriptions encore ouvertes.
LOCATION:Médiathèque Nathan Katz\, 2\, rue Nathan Katz à WALDIGHOFFEN
CATEGORIES:Waldighoffen, Cirque, Médiathèque, Clown Toupie
CLASS:PUBLIC
END:VEVENT
END:VCALENDAR
