BEGIN:VCALENDAR
PRODID:-//AT Content Types//AT Event//EN
VERSION:2.0
METHOD:PUBLISH
BEGIN:VEVENT
DTSTAMP:20260420T014505Z
CREATED:20141201T185541Z
UID:ATEvent-5b25eee7f1934579b0a360bf013e8931
LAST-MODIFIED:20150115T162637Z
SUMMARY:19ème marche de nuit le samedi 17 janvier 2015 à Waldighoffen.
DTSTART:20150117T130000Z
DTEND:20150117T230000Z
DESCRIPTION:Le basket-club CSSPP Waldighoffen organise sa 18ème march
 e populaire de nuit le samedi 17 janvier 2014.
LOCATION:salle Nathan Katz\, rue des écoles
CLASS:PUBLIC
END:VEVENT
END:VCALENDAR
