BEGIN:VCALENDAR
PRODID:-//AT Content Types//AT Event//EN
VERSION:2.0
METHOD:PUBLISH
BEGIN:VEVENT
DTSTAMP:20260420T032039Z
CREATED:20110523T073150Z
UID:ATEvent-939ca8f3296785cf82a31577c70a3bfd
LAST-MODIFIED:20110525T090603Z
SUMMARY:Basket : finale départementale minimes féminines excellence samedi le 28 mai
DTSTART:20110528T130000Z
DTEND:20110528T150000Z
DESCRIPTION:Le samedi 28 mai les minimes féminines du basket-club CSS
 PP Waldighoffen disputent la finale départementale excellence face à
  Kaysersberg dans la salle de Ruelisheim.
LOCATION:Salle E. Vogt\, rue e l'ill Ruelisheim.
CATEGORIES:Basket, CSSPP Waldighoffen, Ruelisheim, Finale minimes féminines
CLASS:PUBLIC
END:VEVENT
END:VCALENDAR
