BEGIN:VCALENDAR
PRODID:-//AT Content Types//AT Event//EN
VERSION:2.0
METHOD:PUBLISH
BEGIN:VEVENT
DTSTAMP:20260420T030529Z
CREATED:20110202T164118Z
UID:ATEvent-763fc2dacd597727bc448461d9eaabbf
LAST-MODIFIED:20110216T110011Z
SUMMARY:La rencontre de basket du dimanche 3 avril.
DTSTART:20110403T113000Z
DTEND:20110403T130000Z
DESCRIPTION:Une seule rencontre en ce dimanche et à l'extérieur.
CLASS:PUBLIC
END:VEVENT
END:VCALENDAR
