BEGIN:VCALENDAR
PRODID:-//AT Content Types//AT Event//EN
VERSION:2.0
METHOD:PUBLISH
BEGIN:VEVENT
DTSTAMP:20260420T032016Z
CREATED:20110202T172129Z
UID:ATEvent-86d66cc3bc731cf2c2d5f99ab6ecbeef
LAST-MODIFIED:20110216T110008Z
SUMMARY:La rencontre au basket-club CSSPP Waldighoffen du dimanche 1er mai.
DTSTART:20110501T080000Z
DTEND:20110501T100000Z
DESCRIPTION:une rencontre de basket est programmée le jour de la fete
  du travail.
CLASS:PUBLIC
END:VEVENT
END:VCALENDAR
