BEGIN:VCALENDAR
PRODID:-//AT Content Types//AT Event//EN
VERSION:2.0
METHOD:PUBLISH
BEGIN:VEVENT
DTSTAMP:20260420T031357Z
CREATED:20110202T173045Z
UID:ATEvent-a93e16c4b33f1c7d9cdafa5d39c26ed2
LAST-MODIFIED:20110216T110008Z
SUMMARY:La rencontre au basket-club CSSPP Waldighoffen du dimanche 8 mai.
DTSTART:20110508T133000Z
DTEND:20110508T150000Z
DESCRIPTION:Dernière rencontre de la saison pour les poussines 1.
CLASS:PUBLIC
END:VEVENT
END:VCALENDAR
