BEGIN:VCALENDAR
PRODID:-//AT Content Types//AT Event//EN
VERSION:2.0
METHOD:PUBLISH
BEGIN:VEVENT
DTSTAMP:20260420T044232Z
CREATED:20110201T181726Z
UID:ATEvent-2e877380782f5a5068f8083254feef29
LAST-MODIFIED:20110216T110009Z
SUMMARY:La rencontre de basket des cadettes du samedi 26 février.
DTSTART:20110201T181500Z
DTEND:20110201T181500Z
DESCRIPTION:Match en retard pour les cadettes du basket-club CSSPP Wal
 dighoffen.
CLASS:PUBLIC
END:VEVENT
END:VCALENDAR
