BEGIN:VCALENDAR
PRODID:-//AT Content Types//AT Event//EN
VERSION:2.0
METHOD:PUBLISH
BEGIN:VEVENT
DTSTAMP:20260420T030124Z
CREATED:20110215T163819Z
UID:ATEvent-765a410a4261c49a7933c71e53a503f1
LAST-MODIFIED:20110216T110008Z
SUMMARY:La rencontre de basket du dimanche 17 avril à Waldighoffen.
DTSTART:20110417T133000Z
DTEND:20110417T150000Z
DESCRIPTION:Les seniors garçons 1 jouent à domicile en ce dimanche 1
 7 avril.
LOCATION:salle Nathan Katz\, rue des écoles.
CATEGORIES:sport,basket,CSSPP Waldighoffen,Sundgau
CLASS:PUBLIC
END:VEVENT
END:VCALENDAR
