BEGIN:VCALENDAR
PRODID:-//AT Content Types//AT Event//EN
VERSION:1.0
BEGIN:VEVENT
DTSTART:20110220T143000Z
DTEND:20110220T160000Z
DCREATED:20110201T181447Z
UID:ATEvent-0242a3e0d21013368dfc192e1a7028fb
SEQUENCE:0
LAST-MODIFIED:20110216T110009Z
SUMMARY:La rencontre de basket du dimanche 20 février 2011 à Waldighoffen.
DESCRIPTION:Une seule rencontre ce dimanche 20 février 2011\, mais un
  derby qui promet.
PRIORITY:3
TRANSP:0
END:VEVENT
END:VCALENDAR
