BEGIN:VCALENDAR
PRODID:-//AT Content Types//AT Event//EN
VERSION:2.0
METHOD:PUBLISH
BEGIN:VEVENT
DTSTAMP:20260420T031407Z
CREATED:20110202T170824Z
UID:ATEvent-b272ae9e159b75690baa2f2c6e0052c7
LAST-MODIFIED:20110216T110007Z
SUMMARY:La rencontre de basket du vendredi 22 avril à Waldighoffen.
DTSTART:20110422T180000Z
DTEND:20110422T200000Z
DESCRIPTION:Dernière rencontre de la saison pour les seniors garçons
  1.
LOCATION:salle Nathan Katz\, rue des écoles.
CLASS:PUBLIC
END:VEVENT
END:VCALENDAR
