BEGIN:VCALENDAR
PRODID:-//AT Content Types//AT Event//EN
VERSION:1.0
BEGIN:VEVENT
DTSTART:20130921T150000Z
DTEND:20130921T180000Z
DCREATED:20130918T141733Z
UID:ATEvent-dc72f9b990804ef59e91e8b2ecee6798
SEQUENCE:0
LAST-MODIFIED:20130918T141751Z
SUMMARY:Les 2 premiers matchs de championnat à Waldighoffen.
DESCRIPTION:Début de championnat 2013/2014 en douceur avec seulement 
 2 équipes en lice .
LOCATION:salle Nathan Katz\, rue des écoles
PRIORITY:3
TRANSP:0
END:VEVENT
END:VCALENDAR
