BEGIN:VCALENDAR
PRODID:-//AT Content Types//AT Event//EN
VERSION:1.0
BEGIN:VEVENT
DTSTART:20110430T143000Z
DTEND:20110430T173000Z
DCREATED:20110202T171759Z
UID:ATEvent-a35758cd2f32eacc93017ae051c20295
SEQUENCE:0
LAST-MODIFIED:20110216T110008Z
SUMMARY:Les rencontres au basket-club-club CSSPP Waldighoffen du samedi 30 avril.
DESCRIPTION:2 matchs à l'extérieur en ce samedi 30 avril\;
PRIORITY:3
TRANSP:0
END:VEVENT
END:VCALENDAR
