BEGIN:VCALENDAR
PRODID:-//AT Content Types//AT Event//EN
VERSION:2.0
METHOD:PUBLISH
BEGIN:VEVENT
DTSTAMP:20260420T030825Z
CREATED:20110202T165148Z
UID:ATEvent-2b9e147ce988bb1f0f0b02993a2f0079
LAST-MODIFIED:20110216T110011Z
SUMMARY:Les rencontres au basket-club CSSPP Waldighoffen du dimanche 10 avril.
DTSTART:20110410T083000Z
DTEND:20110410T140000Z
DESCRIPTION:Et encore 4 matchs en ce dimanche 10 avril mais tous à l'
 extérieur.
CLASS:PUBLIC
END:VEVENT
END:VCALENDAR
