BEGIN:VCALENDAR
PRODID:-//AT Content Types//AT Event//EN
VERSION:1.0
BEGIN:VEVENT
DTSTART:20110327T080000Z
DTEND:20110327T140000Z
DCREATED:20110202T161324Z
UID:ATEvent-e4bba161182c1c252ad6a8d2bf5875ec
SEQUENCE:0
LAST-MODIFIED:20110216T110011Z
SUMMARY:Les rencontres au basket-club CSSPP Waldighoffen du dimanche 27 mars.
DESCRIPTION:Encore 2 rencontres à l'extérieur le dimanche\;
PRIORITY:3
TRANSP:0
END:VEVENT
END:VCALENDAR
