BEGIN:VCALENDAR
PRODID:-//AT Content Types//AT Event//EN
VERSION:1.0
BEGIN:VEVENT
DTSTART:20140920T130000Z
DTEND:20140921T150000Z
DCREATED:20140916T061928Z
UID:ATEvent-21052cfd16bb422f8310c87d8ca3003b
SEQUENCE:0
LAST-MODIFIED:20140916T061939Z
SUMMARY:Les rencontres de basket à Waldighoffen du 21 septembre 2014.
DESCRIPTION:Et voila s'est reparti pour une nouvelle saison de basket 
 à Waldighoffen avec les premières rencontres à domicile en ce diman
 che 21 septembre 2014.
LOCATION:salle Nathan Katz\, rue des écoles
PRIORITY:3
TRANSP:0
END:VEVENT
END:VCALENDAR
