BEGIN:VCALENDAR
PRODID:-//AT Content Types//AT Event//EN
VERSION:2.0
METHOD:PUBLISH
BEGIN:VEVENT
DTSTAMP:20260420T043922Z
CREATED:20110922T180307Z
UID:ATEvent-210307b8afdc12b787be6625ec6c5649
LAST-MODIFIED:20110923T115543Z
SUMMARY:Les rencontres de basket à Waldighoffen du samedi 24 septembre 2011
DTSTART:20110924T120000Z
DTEND:20110924T200000Z
DESCRIPTION:Première journée de championnat pour 6 équipes du Baske
 t-club CSSPP Waldighoffen.
LOCATION:salle nathan Katz\, rue des écoles.
CLASS:PUBLIC
END:VEVENT
END:VCALENDAR
