BEGIN:VCALENDAR
PRODID:-//AT Content Types//AT Event//EN
VERSION:1.0
BEGIN:VEVENT
DTSTART:20141129T130000Z
DTEND:20141130T180000Z
DCREATED:20141106T171952Z
UID:ATEvent-cad6869826e9479389c610cc17bed794
SEQUENCE:0
LAST-MODIFIED:20141106T172025Z
SUMMARY:Les rencontres de basket à Waldighoffen les 29 et 30 novembre 2014.
DESCRIPTION:Journée complète de matchs à domicile.
LOCATION:salle Nathan Katz\, rue des écoles
PRIORITY:3
TRANSP:0
END:VEVENT
END:VCALENDAR
