BEGIN:VCALENDAR
PRODID:-//AT Content Types//AT Event//EN
VERSION:2.0
METHOD:PUBLISH
BEGIN:VEVENT
DTSTAMP:20260424T232218Z
CREATED:20121017T160841Z
UID:ATEvent-a3c91e0fa0a74c758a41f7ba0c8ec6f7
LAST-MODIFIED:20121017T160919Z
SUMMARY:les rencontres de basket à Waldighoffen samedi 20 octobre 2012.
DTSTART:20121020T120000Z
DTEND:20121021T150000Z
DESCRIPTION:Journée de championnat complète au basket-club CSSPP Wal
 dighoffen ce samedi 20 octobre avec 5 matchs  au programme.
LOCATION:salle Nathan Katz\, rue des écoles.
CLASS:PUBLIC
END:VEVENT
END:VCALENDAR
