BEGIN:VCALENDAR
PRODID:-//AT Content Types//AT Event//EN
VERSION:1.0
BEGIN:VEVENT
DTSTART:20151003T120000Z
DTEND:20151004T203000Z
DCREATED:20150921T125628Z
UID:ATEvent-340d9f8ccb0f40eeafe9d5d210da008e
SEQUENCE:0
LAST-MODIFIED:20151001T181312Z
SUMMARY:Les rencontres de basket du samedi 3 octobre 2015 à Waldighoffen.
DESCRIPTION:Week-end basket moyen format à Waldighoffen ou 4 équipes
  sur les 8 jouent à domicile.
LOCATION:salle Nathan Katz\, rue des écoles
PRIORITY:3
TRANSP:0
END:VEVENT
END:VCALENDAR
