BEGIN:VCALENDAR
PRODID:-//AT Content Types//AT Event//EN
VERSION:2.0
METHOD:PUBLISH
BEGIN:VEVENT
DTSTAMP:20260420T014232Z
CREATED:20151130T151514Z
UID:ATEvent-cfb79d77fd35449588484846e3295fb6
LAST-MODIFIED:20151130T151708Z
SUMMARY:Les rencontres de basket des 5 et 6 décembre 2015 à Waldighoffen.
DTSTART:20151205T130000Z
DTEND:20151206T110000Z
DESCRIPTION:Enfin à nouveau du basket dans la salle de Waldighoffen a
 vec 6 matchs à domicile.
LOCATION:salle Nathan Katz\, rue des écoles
CLASS:PUBLIC
END:VEVENT
END:VCALENDAR
