BEGIN:VCALENDAR
PRODID:-//AT Content Types//AT Event//EN
VERSION:2.0
METHOD:PUBLISH
BEGIN:VEVENT
DTSTAMP:20260420T030544Z
CREATED:20110201T183451Z
UID:ATEvent-872c083def1ad3eda10ea5e0d97ce3e1
LAST-MODIFIED:20110216T110010Z
SUMMARY:Les rencontres de basket du dimanche 13 mars à Waldighoffen.
DTSTART:20110313T080000Z
DTEND:20110313T173000Z
DESCRIPTION:Suite de ce grand week-end basket-ballistique à  Waldigho
 ffen.
LOCATION:salle Nathan Katz\, rue des écoles.
CLASS:PUBLIC
END:VEVENT
END:VCALENDAR
