BEGIN:VCALENDAR
PRODID:-//AT Content Types//AT Event//EN
VERSION:1.0
BEGIN:VEVENT
DTSTART:20151212T143000Z
DTEND:20151212T210000Z
DCREATED:20151207T162204Z
UID:ATEvent-3cabc69efb0c4c45991985eef954ee5b
SEQUENCE:0
LAST-MODIFIED:20151207T162220Z
SUMMARY:Les rencontres de basket du samedi 12 décembre 2015 à Waldighoffen.
DESCRIPTION:Les tous derniers matchs de basket de l'année 2015 à Wal
 dighoffen.
LOCATION:salle Nathan Katz\, rue des écoles
PRIORITY:3
TRANSP:0
END:VEVENT
END:VCALENDAR
