BEGIN:VCALENDAR
PRODID:-//AT Content Types//AT Event//EN
VERSION:2.0
METHOD:PUBLISH
BEGIN:VEVENT
DTSTAMP:20260420T032331Z
CREATED:20110201T163400Z
UID:ATEvent-895bcb5af43e44106063385d0243a549
LAST-MODIFIED:20110216T110009Z
SUMMARY:Les rencontres de basket du samedi 12 février au basket-club CSSPP Waldighoffen.
DTSTART:20110212T134500Z
DTEND:20110212T213000Z
DESCRIPTION:Toutes les équipes jouent à l'extérieur ce samedi pour 
 cause d'occupation de la salle.
CLASS:PUBLIC
END:VEVENT
END:VCALENDAR
