BEGIN:VCALENDAR
PRODID:-//AT Content Types//AT Event//EN
VERSION:2.0
METHOD:PUBLISH
BEGIN:VEVENT
DTSTAMP:20260420T043934Z
CREATED:20111011T142930Z
UID:ATEvent-d008011b20f33fb333dd9cb75c1df5bf
LAST-MODIFIED:20111013T081610Z
SUMMARY:Les rencontres de basket du samedi 15 octobre 2011 à Waldighoffen
DTSTART:20111015T120000Z
DTEND:20111015T200000Z
DESCRIPTION:Après-midi basket complet en ce samedi 15 octobre à Wald
 ighoffen.
LOCATION:salle nathan Katz\, rue des écoles.
CLASS:PUBLIC
END:VEVENT
END:VCALENDAR
