BEGIN:VCALENDAR
PRODID:-//AT Content Types//AT Event//EN
VERSION:1.0
BEGIN:VEVENT
DTSTART:20110416T120000Z
DTEND:20110416T200000Z
DCREATED:20110202T165817Z
UID:ATEvent-eb323dbf29773b72d373c835044472a0
SEQUENCE:0
LAST-MODIFIED:20110414T075719Z
SUMMARY:Les rencontres de basket du samedi 16 avril à Waldighoffen.
DESCRIPTION:Journée complète de rencontres à domicile .
LOCATION:salle Nathan Katz\, rue des écoles.
PRIORITY:3
TRANSP:0
END:VEVENT
END:VCALENDAR
