BEGIN:VCALENDAR
PRODID:-//AT Content Types//AT Event//EN
VERSION:2.0
METHOD:PUBLISH
BEGIN:VEVENT
DTSTAMP:20260420T032015Z
CREATED:20110201T181152Z
UID:ATEvent-abd7e1635d3061c2a3e6a9ecccf94742
LAST-MODIFIED:20110216T110009Z
SUMMARY:Les rencontres de basket du samedi 19 février 2011 à Waldighoffen
DTSTART:20110219T133000Z
DTEND:20110219T180000Z
DESCRIPTION:Six matchs sont au programme de ce samedi 19 février 2011
  où les équipes locales retrouvent leur salle.
LOCATION:salle Nathan Katz\, rue des écoles.
CATEGORIES:CSSPP, Waldighoffen, basket , Basket-club Waldighoffen , Sport , Sundgau, Rencontres basket, Basket, Sport, Sundgau
CLASS:PUBLIC
END:VEVENT
END:VCALENDAR
