BEGIN:VCALENDAR
PRODID:-//AT Content Types//AT Event//EN
VERSION:2.0
METHOD:PUBLISH
BEGIN:VEVENT
DTSTAMP:20260420T043934Z
CREATED:20110202T171324Z
UID:ATEvent-6c5b727fb77001f065e293d9cfde3549
LAST-MODIFIED:20110216T110008Z
SUMMARY:Les rencontres de basket du samedi 23 avril à Waldighoffen.
DTSTART:20110423T120000Z
DTEND:20110423T200000Z
DESCRIPTION:Journée complète de matchs à domicile la veille de Paqu
 es.
LOCATION:salle Nathan Katz\, rue des écoles.
CLASS:PUBLIC
END:VEVENT
END:VCALENDAR
