BEGIN:VCALENDAR
PRODID:-//AT Content Types//AT Event//EN
VERSION:2.0
METHOD:PUBLISH
BEGIN:VEVENT
DTSTAMP:20260420T030912Z
CREATED:20110202T163649Z
UID:ATEvent-474c07603c4eff92a90cf40c0b53c64c
LAST-MODIFIED:20110216T110011Z
SUMMARY:Les rencontres de basket du samedi 2 avril à Waldighoffen.
DTSTART:20110402T120000Z
DTEND:20110402T203000Z
DESCRIPTION:Nouvelle grande journée de basket avec 9 rencontres au me
 nu pour les équipes du basket-club CSSPP Waldighoffen.
LOCATION:salle Nathan Katz\, rue des écoles.
CLASS:PUBLIC
END:VEVENT
END:VCALENDAR
